Workbook

Sheet 質問書
A2: 仕様書等に関する質問書
F4: 2026/10/● | G4: 入力欄 | H4: 2025/4/1の形式で入力 | K4: 長浜市長 様
A5: 長浜市長 様 | K5: 長浜市教育委員会教育長 様
K6: 長浜市病院事業管理者 様
A7: 下記の委託業務について、以下のとおり質問します。
A9: 質問者
B10: 所在地又は住所 | G10: 入力欄
B11: 商号又は名称 | G11: 入力欄
B12: 代表者 職名・氏名 | G12: 入力欄
B13: 電話番号 | E13: ＦＡＸ番号 | G13: 入力欄
B14: 担当者氏名 | E14: メールアドレス | G14: 入力欄
A16: 案件名等
B17: 業務番号 | D17: 令和８年度 長教指第448号 | G17: 入力欄
B18: 業務名称 | D18: 令和９・10年度 長浜市立小中義務教育学校教職員健康診断委託業務（単価契約） | G18: 入力欄
A20: 質問内容
B21: 番号 | D21: 質問内容 | F21: 仕様書等の 該当ページ
B22: １ | G22: 入力欄 | H22: 質問
B23: ２ | G23: 入力欄 | H23: 質問
B24: ３ | G24: 入力欄 | H24: 質問
A26: 注意事項
B27: ■質問書の提出は、メールまたはＦＡＸ送信による方法のみ受付します。 （メールまたはＦＡＸ送信以外の方法による提出については、受付しません。）
B28: ■メールまたはＦＡＸ送信後、速やかに下記へ電話連絡し、受信の確認を行ってください。 電話連絡がなかった場合、受信確認ができず質問に回答できない場合があります。
C30: メール送信先： | D30: kyouiku-shidou@city.nagahama.lg.jp
C31: ＦＡＸ送信先： | D31: ０７４９－６５－６５４０
C32: メール又はＦＡＸ送信後の電話連絡先： | E32: 長浜市教育委員会事務局教育指導課
C33: 電話番号： | D33: ０７４９－６５－８６０５
IO65491: k89

Sheet 質問書表紙（質問内容が多い場合）
A2: 仕様書等に関する質問書
F4: 2026/10/● | G4: 入力欄 | H4: 2025/4/1の形式で入力
A5: =質問書!A5 -> 長浜市長 様
A7: 下記の委託業務について、以下のとおり質問します。
A9: 質問者
B10: 所在地又は住所 | G10: 入力欄
B11: 商号又は名称 | G11: 入力欄
B12: 代表者 職名・氏名 | G12: 入力欄
B13: 電話番号 | E13: ＦＡＸ番号 | G13: 入力欄
B14: 担当者氏名 | E14: メールアドレス | G14: 入力欄
A16: 案件名等
B17: 業務番号 | D17: =質問書!D17 -> 令和８年度 長教指第448号 | G17: 入力欄
B18: 業務名称 | D18: =質問書!D18 -> 令和９・10年度 長浜市立小中義務教育学校教職員健康診断委託業務（単価契約） | G18: 入力欄
A20: 質問内容
B21: 番号 | D21: 質問内容 | F21: 仕様書等の 該当ページ
B22: １ | D22: （別紙のとおり） | G22: 入力欄 | H22: 質問
B23: ２ | G23: 入力欄 | H23: 質問
B24: ３ | G24: 入力欄 | H24: 質問
A26: 注意事項
B27: ■質問書の提出は、メールまたはＦＡＸ送信による方法のみ受付します。 （メールまたはＦＡＸ送信以外の方法による提出については、受付しません。）
B28: ■メールまたはＦＡＸ送信後、速やかに下記へ電話連絡し、受信の確認を行ってください。 電話連絡がなかった場合、受信確認ができず質問に回答できない場合があります。
C30: メール送信先： | D30: =質問書!D30 -> kyouiku-shidou@city.nagahama.lg.jp
C31: ＦＡＸ送信先： | D31: =質問書!D31 -> ０７４９－６５－６５４０
C32: メール又はＦＡＸ送信後の電話連絡先： | E32: =質問書!E32 -> 長浜市教育委員会事務局教育指導課
C33: 電話番号： | D33: =質問書!D33 -> ０７４９－６５－８６０５
IO65491: k89

Sheet （別紙）質問内容が多い場合
A1: （別紙） | E1: ※本シートは質問内容部分です。表紙は別シートに入力してください。
B2: 質問内容
B3: 番号 | C3: 質問内容 | D3: 仕様書等の 該当ページ
B5: =ROW(B5)-4 -> 1 | E5: ※質問内容の記載は、当様式と同様の枠を作成したものであれば様式は問いません。ただし、必ずＡ４判で印刷してください。
B6: =ROW(B6)-4 -> 2
B7: =ROW(B7)-4 -> 3
B8: =ROW(B8)-4 -> 4
B9: =ROW(B9)-4 -> 5
B10: =ROW(B10)-4 -> 6
B11: =ROW(B11)-4 -> 7
B12: =ROW(B12)-4 -> 8
B13: =ROW(B13)-4 -> 9
B14: =ROW(B14)-4 -> 10
B15: =ROW(B15)-4 -> 11
B16: =ROW(B16)-4 -> 12
B17: =ROW(B17)-4 -> 13
... B34: =ROW(B34)-4 -> 30
IM65464: k89
